View In:
ArcGIS JavaScript
ArcGIS Online Map Viewer
ArcGIS Earth
ArcMap
View Footprint In:
ArcGIS Online Map Viewer
Service Description: DRAPP/Imagery_2020
Name: DRAPP/Imagery_2020
Description:
Single Fused Map Cache: false
Extent:
XMin: 3083321.4549865597
YMin: 1758402.7652168155
XMax: 3114999.18019705
YMax: 1790079.0068444735
Spatial Reference: 102654
(2232)
LatestVCSWkid(0)
Initial Extent:
XMin: 3083321.4549865597
YMin: 1758402.7652168155
XMax: 3114999.18019705
YMax: 1790079.0068444735
Spatial Reference: 102654
(2232)
LatestVCSWkid(0)
Full Extent:
XMin: 3083321.4549865597
YMin: 1758402.7652168155
XMax: 3114999.18019705
YMax: 1790079.0068444735
Spatial Reference: 102654
(2232)
LatestVCSWkid(0)
Pixel Size X: 0.24999980436181682
Pixel Size Y: 0.24999993392256042
Band Count: 4
Pixel Type: U16
RasterFunction Infos: {"rasterFunctionInfos": [{
"name": "None",
"description": "",
"help": ""
}]}
Mensuration Capabilities: Basic
Has Histograms: true
Has Colormap: false
Has Multi Dimensions : false
Rendering Rule:
Min Scale: 0
Max Scale: 0
Copyright Text:
Service Data Type: esriImageServiceDataTypeGeneric
Min Values: 0, 0, 0, 0
Max Values: 258, 258, 258, 258
Mean Values: 119.08855478813902, 116.74492342399483, 113.32135241379217, 117.27649180408062
Standard Deviation Values: 38.96276499057412, 37.36125447211183, 37.08366477623465, 37.076470582673096
Object ID Field:
Fields:
None
Default Mosaic Method: Center
Allowed Mosaic Methods:
SortField:
SortValue: null
Mosaic Operator: First
Default Compression Quality: 75
Default Resampling Method: Bilinear
Max Record Count: null
Max Image Height: 4100
Max Image Width: 15000
Max Download Image Count: null
Max Mosaic Image Count: null
Allow Raster Function: true
Allow Copy: false
Allow Analysis: true
Allow Compute TiePoints: false
Supports Statistics: false
Supports Advanced Queries: false
Use StandardizedQueries: true
Raster Type Infos:
Name: Raster Dataset
Description: Supports all ArcGIS Raster Datasets
Help:
Has Raster Attribute Table: false
Edit Fields Info: null
Ownership Based AccessControl For Rasters: null
Child Resources:
Info
Histograms
Statistics
Key Properties
Legend
Raster Function Infos
Supported Operations:
Export Image
Identify
Measure
Compute Histograms
Compute Statistics Histograms
Get Samples
Compute Class Statistics
Query Boundary
Compute Pixel Location
Compute Angles
Validate
Project