{
 "currentVersion": 10.91,
 "serviceDescription": "DRAPP/Imagery_2020",
 "name": "DRAPP/Imagery_2020",
 "description": "",
 "extent": {
  "xmin": 3083321.4549865597,
  "ymin": 1758402.7652168155,
  "xmax": 3114999.18019705,
  "ymax": 1790079.0068444735,
  "spatialReference": {
   "wkid": 102654,
   "latestWkid": 2232
  }
 },
 "initialExtent": {
  "xmin": 3083321.4549865597,
  "ymin": 1758402.7652168155,
  "xmax": 3114999.18019705,
  "ymax": 1790079.0068444735,
  "spatialReference": {
   "wkid": 102654,
   "latestWkid": 2232
  }
 },
 "fullExtent": {
  "xmin": 3083321.4549865597,
  "ymin": 1758402.7652168155,
  "xmax": 3114999.18019705,
  "ymax": 1790079.0068444735,
  "spatialReference": {
   "wkid": 102654,
   "latestWkid": 2232
  }
 },
 "hasMultidimensions": false,
 "pixelSizeX": 0.24999980436181682,
 "pixelSizeY": 0.24999993392256042,
 "datasetFormat": "SDR",
 "uncompressedSize": 128439338040,
 "blockWidth": 128,
 "blockHeight": 128,
 "compressionType": "LZ77",
 "bandNames": [
  "Band_1",
  "Band_2",
  "Band_3",
  "Band_4"
 ],
 "allowCopy": false,
 "allowAnalysis": true,
 "bandCount": 4,
 "pixelType": "U16",
 "minPixelSize": 0,
 "maxPixelSize": 0,
 "copyrightText": "",
 "serviceDataType": "esriImageServiceDataTypeGeneric",
 "serviceSourceType": "esriImageServiceSourceTypeDataset",
 "minValues": [
  0,
  0,
  0,
  0
 ],
 "maxValues": [
  258,
  258,
  258,
  258
 ],
 "meanValues": [
  119.08855478813902,
  116.74492342399483,
  113.32135241379217,
  117.27649180408062
 ],
 "stdvValues": [
  38.96276499057412,
  37.36125447211183,
  37.08366477623465,
  37.076470582673096
 ],
 "objectIdField": "",
 "fields": [],
 "capabilities": "Image,Metadata,Mensuration",
 "defaultMosaicMethod": "Center",
 "allowedMosaicMethods": "",
 "sortField": "",
 "sortValue": null,
 "sortAscending": true,
 "mosaicOperator": "First",
 "defaultCompressionQuality": 75,
 "defaultResamplingMethod": "Bilinear",
 "maxImageHeight": 4100,
 "maxImageWidth": 15000,
 "allowRasterFunction": true,
 "rasterFunctionInfos": [
  {
   "name": "None",
   "description": "",
   "help": ""
  }
 ],
 "rasterTypeInfos": [
  {
   "name": "Raster Dataset",
   "description": "Supports all ArcGIS Raster Datasets",
   "help": ""
  }
 ],
 "mensurationCapabilities": "Basic",
 "hasHistograms": true,
 "hasColormap": false,
 "hasRasterAttributeTable": false,
 "minScale": 0,
 "maxScale": 0,
 "exportTilesAllowed": false,
 "supportsStatistics": false,
 "supportsAdvancedQueries": false,
 "editFieldsInfo": null,
 "ownershipBasedAccessControlForRasters": null,
 "allowComputeTiePoints": false,
 "useStandardizedQueries": true,
 "advancedQueryCapabilities": {
  "useStandardizedQueries": true,
  "supportsStatistics": false,
  "supportsOrderBy": false,
  "supportsDistinct": false,
  "supportsPagination": false
 },
 "spatialReference": {
  "wkid": 102654,
  "latestWkid": 2232
 }
}
