View In:
ArcGIS JavaScript
ArcGIS Online Map Viewer
ArcGIS Earth
ArcMap
View Footprint In:
ArcGIS Online Map Viewer
Service Description: DRAPP/Imagery_2016
Name: DRAPP/Imagery_2016
Description:
Single Fused Map Cache: false
Extent:
XMin: 3078025.44963032
YMin: 1212105.6602040678
XMax: 3114983.94963032
YMax: 1243785.6602040678
Spatial Reference: 103012
(6430)
LatestVCSWkid(0)
Initial Extent:
XMin: 3078025.44963032
YMin: 1212105.6602040678
XMax: 3114983.94963032
YMax: 1243785.6602040678
Spatial Reference: 103012
(6430)
LatestVCSWkid(0)
Full Extent:
XMin: 3078025.44963032
YMin: 1212105.6602040678
XMax: 3114983.94963032
YMax: 1243785.6602040678
Spatial Reference: 103012
(6430)
LatestVCSWkid(0)
Pixel Size X: 0.5
Pixel Size Y: 0.5
Band Count: 3
Pixel Type: U8
RasterFunction Infos: {"rasterFunctionInfos": [{
"name": "None",
"description": "",
"help": ""
}]}
Mensuration Capabilities: Basic
Has Histograms: true
Has Colormap: false
Has Multi Dimensions : false
Rendering Rule:
Min Scale: 0
Max Scale: 0
Copyright Text:
Service Data Type: esriImageServiceDataTypeRGB
Min Values: 0, 0, 0
Max Values: 255, 255, 255
Mean Values: 117.80550529272323, 109.1535083309641, 86.14096765308734
Standard Deviation Values: 56.93646022282804, 52.11790843686094, 43.67817631102229
Object ID Field:
Fields:
None
Default Mosaic Method: Center
Allowed Mosaic Methods:
SortField:
SortValue: null
Mosaic Operator: First
Default Compression Quality: 75
Default Resampling Method: Bilinear
Max Record Count: null
Max Image Height: 4100
Max Image Width: 15000
Max Download Image Count: null
Max Mosaic Image Count: null
Allow Raster Function: true
Allow Copy: false
Allow Analysis: true
Allow Compute TiePoints: false
Supports Statistics: false
Supports Advanced Queries: false
Use StandardizedQueries: true
Raster Type Infos:
Name: Raster Dataset
Description: Supports all ArcGIS Raster Datasets
Help:
Has Raster Attribute Table: false
Edit Fields Info: null
Ownership Based AccessControl For Rasters: null
Child Resources:
Info
Histograms
Statistics
Key Properties
Legend
Raster Function Infos
Supported Operations:
Export Image
Identify
Measure
Compute Histograms
Compute Statistics Histograms
Get Samples
Compute Class Statistics
Query Boundary
Compute Pixel Location
Compute Angles
Validate
Project