{
 "currentVersion": 10.91,
 "serviceDescription": "DRAPP/Imagery_2016",
 "name": "DRAPP/Imagery_2016",
 "description": "",
 "extent": {
  "xmin": 3078025.44963032,
  "ymin": 1212105.6602040678,
  "xmax": 3114983.94963032,
  "ymax": 1243785.6602040678,
  "spatialReference": {
   "wkid": 103012,
   "latestWkid": 6430
  }
 },
 "initialExtent": {
  "xmin": 3078025.44963032,
  "ymin": 1212105.6602040678,
  "xmax": 3114983.94963032,
  "ymax": 1243785.6602040678,
  "spatialReference": {
   "wkid": 103012,
   "latestWkid": 6430
  }
 },
 "fullExtent": {
  "xmin": 3078025.44963032,
  "ymin": 1212105.6602040678,
  "xmax": 3114983.94963032,
  "ymax": 1243785.6602040678,
  "spatialReference": {
   "wkid": 103012,
   "latestWkid": 6430
  }
 },
 "hasMultidimensions": false,
 "pixelSizeX": 0.5,
 "pixelSizeY": 0.5,
 "datasetFormat": "SDR",
 "uncompressedSize": 14050143360,
 "blockWidth": 128,
 "blockHeight": 128,
 "compressionType": "LZ77",
 "bandNames": [
  "Band_1",
  "Band_2",
  "Band_3"
 ],
 "allowCopy": false,
 "allowAnalysis": true,
 "bandCount": 3,
 "pixelType": "U8",
 "minPixelSize": 0,
 "maxPixelSize": 0,
 "copyrightText": "",
 "serviceDataType": "esriImageServiceDataTypeRGB",
 "serviceSourceType": "esriImageServiceSourceTypeDataset",
 "minValues": [
  0,
  0,
  0
 ],
 "maxValues": [
  255,
  255,
  255
 ],
 "meanValues": [
  117.80550529272323,
  109.1535083309641,
  86.14096765308734
 ],
 "stdvValues": [
  56.93646022282804,
  52.11790843686094,
  43.67817631102229
 ],
 "objectIdField": "",
 "fields": [],
 "capabilities": "Image,Metadata,Mensuration",
 "defaultMosaicMethod": "Center",
 "allowedMosaicMethods": "",
 "sortField": "",
 "sortValue": null,
 "sortAscending": true,
 "mosaicOperator": "First",
 "defaultCompressionQuality": 75,
 "defaultResamplingMethod": "Bilinear",
 "maxImageHeight": 4100,
 "maxImageWidth": 15000,
 "allowRasterFunction": true,
 "rasterFunctionInfos": [
  {
   "name": "None",
   "description": "",
   "help": ""
  }
 ],
 "rasterTypeInfos": [
  {
   "name": "Raster Dataset",
   "description": "Supports all ArcGIS Raster Datasets",
   "help": ""
  }
 ],
 "mensurationCapabilities": "Basic",
 "hasHistograms": true,
 "hasColormap": false,
 "hasRasterAttributeTable": false,
 "minScale": 0,
 "maxScale": 0,
 "exportTilesAllowed": false,
 "supportsStatistics": false,
 "supportsAdvancedQueries": false,
 "editFieldsInfo": null,
 "ownershipBasedAccessControlForRasters": null,
 "allowComputeTiePoints": false,
 "useStandardizedQueries": true,
 "advancedQueryCapabilities": {
  "useStandardizedQueries": true,
  "supportsStatistics": false,
  "supportsOrderBy": false,
  "supportsDistinct": false,
  "supportsPagination": false
 },
 "spatialReference": {
  "wkid": 103012,
  "latestWkid": 6430
 }
}
