View In:
ArcGIS JavaScript
ArcGIS Online Map Viewer
ArcGIS Earth
ArcMap
View Footprint In:
ArcGIS Online Map Viewer
Service Description: DRAPP/Imagery_2004
Name: DRAPP/Imagery_2004
Description:
Single Fused Map Cache: false
Extent:
XMin: 3080368.449686826
YMin: 1214359.6601381837
XMax: 3115366.4496868425
YMax: 1249357.660138213
Spatial Reference: 2876
(2876)
LatestVCSWkid(0)
Initial Extent:
XMin: 3080368.449686826
YMin: 1214359.6601381837
XMax: 3115366.4496868425
YMax: 1249357.660138213
Spatial Reference: 2876
(2876)
LatestVCSWkid(0)
Full Extent:
XMin: 3080368.449686826
YMin: 1214359.6601381837
XMax: 3115366.4496868425
YMax: 1249357.660138213
Spatial Reference: 2876
(2876)
LatestVCSWkid(0)
Pixel Size X: 1.0000000000004656
Pixel Size Y: 1.0000000000008382
Band Count: 3
Pixel Type: U8
RasterFunction Infos: {"rasterFunctionInfos": [{
"name": "None",
"description": "",
"help": ""
}]}
Mensuration Capabilities: Basic
Has Histograms: true
Has Colormap: false
Has Multi Dimensions : false
Rendering Rule:
Min Scale: 0
Max Scale: 0
Copyright Text:
Service Data Type: esriImageServiceDataTypeRGB
Min Values: 24, 16, 0
Max Values: 255, 255, 255
Mean Values: 146.3077072343735, 141.07003440595648, 132.613511650939
Standard Deviation Values: 27.959770958894605, 27.722832432433844, 29.373068664853044
Object ID Field:
Fields:
None
Default Mosaic Method: Center
Allowed Mosaic Methods:
SortField:
SortValue: null
Mosaic Operator: First
Default Compression Quality: 75
Default Resampling Method: Bilinear
Max Record Count: null
Max Image Height: 4100
Max Image Width: 15000
Max Download Image Count: null
Max Mosaic Image Count: null
Allow Raster Function: true
Allow Copy: false
Allow Analysis: true
Allow Compute TiePoints: false
Supports Statistics: false
Supports Advanced Queries: false
Use StandardizedQueries: true
Raster Type Infos:
Name: Raster Dataset
Description: Supports all ArcGIS Raster Datasets
Help:
Has Raster Attribute Table: false
Edit Fields Info: null
Ownership Based AccessControl For Rasters: null
Child Resources:
Info
Histograms
Statistics
Key Properties
Legend
Raster Function Infos
Supported Operations:
Export Image
Identify
Measure
Compute Histograms
Compute Statistics Histograms
Get Samples
Compute Class Statistics
Query Boundary
Compute Pixel Location
Compute Angles
Validate
Project