{
 "currentVersion": 10.91,
 "serviceDescription": "DRAPP/Imagery_2004",
 "name": "DRAPP/Imagery_2004",
 "description": "",
 "extent": {
  "xmin": 3080368.449686826,
  "ymin": 1214359.6601381837,
  "xmax": 3115366.4496868425,
  "ymax": 1249357.660138213,
  "spatialReference": {
   "wkid": 2876,
   "latestWkid": 2876
  }
 },
 "initialExtent": {
  "xmin": 3080368.449686826,
  "ymin": 1214359.6601381837,
  "xmax": 3115366.4496868425,
  "ymax": 1249357.660138213,
  "spatialReference": {
   "wkid": 2876,
   "latestWkid": 2876
  }
 },
 "fullExtent": {
  "xmin": 3080368.449686826,
  "ymin": 1214359.6601381837,
  "xmax": 3115366.4496868425,
  "ymax": 1249357.660138213,
  "spatialReference": {
   "wkid": 2876,
   "latestWkid": 2876
  }
 },
 "hasMultidimensions": false,
 "pixelSizeX": 1.0000000000004656,
 "pixelSizeY": 1.0000000000008382,
 "datasetFormat": "SDR",
 "uncompressedSize": 3674580012,
 "blockWidth": 128,
 "blockHeight": 128,
 "compressionType": "LZ77",
 "bandNames": [
  "Band_1",
  "Band_2",
  "Band_3"
 ],
 "allowCopy": false,
 "allowAnalysis": true,
 "bandCount": 3,
 "pixelType": "U8",
 "minPixelSize": 0,
 "maxPixelSize": 0,
 "copyrightText": "",
 "serviceDataType": "esriImageServiceDataTypeRGB",
 "serviceSourceType": "esriImageServiceSourceTypeDataset",
 "minValues": [
  24,
  16,
  0
 ],
 "maxValues": [
  255,
  255,
  255
 ],
 "meanValues": [
  146.3077072343735,
  141.07003440595648,
  132.613511650939
 ],
 "stdvValues": [
  27.959770958894605,
  27.722832432433844,
  29.373068664853044
 ],
 "objectIdField": "",
 "fields": [],
 "capabilities": "Image,Metadata,Mensuration",
 "defaultMosaicMethod": "Center",
 "allowedMosaicMethods": "",
 "sortField": "",
 "sortValue": null,
 "sortAscending": true,
 "mosaicOperator": "First",
 "defaultCompressionQuality": 75,
 "defaultResamplingMethod": "Bilinear",
 "maxImageHeight": 4100,
 "maxImageWidth": 15000,
 "allowRasterFunction": true,
 "rasterFunctionInfos": [
  {
   "name": "None",
   "description": "",
   "help": ""
  }
 ],
 "rasterTypeInfos": [
  {
   "name": "Raster Dataset",
   "description": "Supports all ArcGIS Raster Datasets",
   "help": ""
  }
 ],
 "mensurationCapabilities": "Basic",
 "hasHistograms": true,
 "hasColormap": false,
 "hasRasterAttributeTable": false,
 "minScale": 0,
 "maxScale": 0,
 "exportTilesAllowed": false,
 "supportsStatistics": false,
 "supportsAdvancedQueries": false,
 "editFieldsInfo": null,
 "ownershipBasedAccessControlForRasters": null,
 "allowComputeTiePoints": false,
 "useStandardizedQueries": true,
 "advancedQueryCapabilities": {
  "useStandardizedQueries": true,
  "supportsStatistics": false,
  "supportsOrderBy": false,
  "supportsDistinct": false,
  "supportsPagination": false
 },
 "spatialReference": {
  "wkid": 2876,
  "latestWkid": 2876
 }
}
