<?xml version="1.0" encoding="UTF-8" standalone="no"?>
<metadata xml:lang="en">
<Esri>
<CreaDate>20210406</CreaDate>
<CreaTime>12144200</CreaTime>
<ArcGISFormat>1.0</ArcGISFormat>
<SyncOnce>FALSE</SyncOnce>
<DataProperties>
<lineage>
<Process Date="20210406" Time="121442" ToolSource="c:\program files\arcgis\pro\Resources\ArcToolbox\toolboxes\Data Management Tools.tbx\CreateMosaicDataset">CreateMosaicDataset "\\col-fs01\GIS_Shared$\DRCOG_2021\Imagery 2020.gdb" COL_Imagery_2020 PROJCS['NAD_1983_StatePlane_Colorado_Central_FIPS_0502_Feet',GEOGCS['GCS_North_American_1983',DATUM['D_North_American_1983',SPHEROID['GRS_1980',6378137.0,298.257222101]],PRIMEM['Greenwich',0.0],UNIT['Degree',0.0174532925199433]],PROJECTION['Lambert_Conformal_Conic'],PARAMETER['False_Easting',3000000.000316083],PARAMETER['False_Northing',999999.999996],PARAMETER['Central_Meridian',-105.5],PARAMETER['Standard_Parallel_1',38.45],PARAMETER['Standard_Parallel_2',39.75],PARAMETER['Latitude_Of_Origin',37.83333333333334],UNIT['Foot_US',0.3048006096012192]] # # None #</Process>
<Process Date="20210406" Time="121746" ToolSource="c:\program files\arcgis\pro\Resources\ArcToolbox\toolboxes\Data Management Tools.tbx\AddRastersToMosaicDataset">AddRastersToMosaicDataset "\\col-fs01\GIS_Shared$\DRCOG_2021\Imagery 2020.gdb\COL_Imagery_2020" "Raster Dataset" '\\col-fs01\GIS_Shared$\DRCOG_2021\Imagery Data\N2W120a.jp2';'\\col-fs01\GIS_Shared$\DRCOG_2021\Imagery Data\N2W120b.jp2';'\\col-fs01\GIS_Shared$\DRCOG_2021\Imagery Data\N2W120c.jp2';'\\col-fs01\GIS_Shared$\DRCOG_2021\Imagery Data\N2W120d.jp2';'\\col-fs01\GIS_Shared$\DRCOG_2021\Imagery Data\N2W121a.jp2';'\\col-fs01\GIS_Shared$\DRCOG_2021\Imagery Data\N2W121b.jp2';'\\col-fs01\GIS_Shared$\DRCOG_2021\Imagery Data\N2W121c.jp2';'\\col-fs01\GIS_Shared$\DRCOG_2021\Imagery Data\N2W121d.jp2';'\\col-fs01\GIS_Shared$\DRCOG_2021\Imagery Data\N2W122a.jp2';'\\col-fs01\GIS_Shared$\DRCOG_2021\Imagery Data\N2W122b.jp2';'\\col-fs01\GIS_Shared$\DRCOG_2021\Imagery Data\N2W122c.jp2';'\\col-fs01\GIS_Shared$\DRCOG_2021\Imagery Data\N2W122d.jp2';'\\col-fs01\GIS_Shared$\DRCOG_2021\Imagery Data\N2W123a.jp2';'\\col-fs01\GIS_Shared$\DRCOG_2021\Imagery Data\N2W123b.jp2';'\\col-fs01\GIS_Shared$\DRCOG_2021\Imagery Data\N2W123c.jp2';'\\col-fs01\GIS_Shared$\DRCOG_2021\Imagery Data\N2W123d.jp2';'\\col-fs01\GIS_Shared$\DRCOG_2021\Imagery Data\N2W124a.jp2';'\\col-fs01\GIS_Shared$\DRCOG_2021\Imagery Data\N2W124b.jp2';'\\col-fs01\GIS_Shared$\DRCOG_2021\Imagery Data\N2W124c.jp2';'\\col-fs01\GIS_Shared$\DRCOG_2021\Imagery Data\N2W124d.jp2';'\\col-fs01\GIS_Shared$\DRCOG_2021\Imagery Data\N2W130a.jp2';'\\col-fs01\GIS_Shared$\DRCOG_2021\Imagery Data\N2W130b.jp2';'\\col-fs01\GIS_Shared$\DRCOG_2021\Imagery Data\N2W130c.jp2';'\\col-fs01\GIS_Shared$\DRCOG_2021\Imagery Data\N2W130d.jp2';'\\col-fs01\GIS_Shared$\DRCOG_2021\Imagery Data\N2W131a.jp2';'\\col-fs01\GIS_Shared$\DRCOG_2021\Imagery Data\N2W131b.jp2';'\\col-fs01\GIS_Shared$\DRCOG_2021\Imagery Data\N2W131c.jp2';'\\col-fs01\GIS_Shared$\DRCOG_2021\Imagery Data\N2W131d.jp2';'\\col-fs01\GIS_Shared$\DRCOG_2021\Imagery Data\N2W132a.jp2';'\\col-fs01\GIS_Shared$\DRCOG_2021\Imagery Data\N2W132b.jp2';'\\col-fs01\GIS_Shared$\DRCOG_2021\Imagery Data\N2W132c.jp2';'\\col-fs01\GIS_Shared$\DRCOG_2021\Imagery Data\N2W132d.jp2';'\\col-fs01\GIS_Shared$\DRCOG_2021\Imagery Data\N2W133a.jp2';'\\col-fs01\GIS_Shared$\DRCOG_2021\Imagery Data\N2W133b.jp2';'\\col-fs01\GIS_Shared$\DRCOG_2021\Imagery Data\N2W133c.jp2';'\\col-fs01\GIS_Shared$\DRCOG_2021\Imagery Data\N2W133d.jp2';'\\col-fs01\GIS_Shared$\DRCOG_2021\Imagery Data\N2W134a.jp2';'\\col-fs01\GIS_Shared$\DRCOG_2021\Imagery Data\N2W134b.jp2';'\\col-fs01\GIS_Shared$\DRCOG_2021\Imagery Data\N2W134c.jp2';'\\col-fs01\GIS_Shared$\DRCOG_2021\Imagery Data\N2W134d.jp2';'\\col-fs01\GIS_Shared$\DRCOG_2021\Imagery Data\N2W140a.jp2';'\\col-fs01\GIS_Shared$\DRCOG_2021\Imagery Data\N2W140b.jp2';'\\col-fs01\GIS_Shared$\DRCOG_2021\Imagery Data\N2W140c.jp2';'\\col-fs01\GIS_Shared$\DRCOG_2021\Imagery Data\N2W140d.jp2';'\\col-fs01\GIS_Shared$\DRCOG_2021\Imagery Data\N2W141a.jp2';'\\col-fs01\GIS_Shared$\DRCOG_2021\Imagery Data\N2W141b.jp2';'\\col-fs01\GIS_Shared$\DRCOG_2021\Imagery Data\N2W141c.jp2';'\\col-fs01\GIS_Shared$\DRCOG_2021\Imagery Data\N2W141d.jp2';'\\col-fs01\GIS_Shared$\DRCOG_2021\Imagery Data\N2W142a.jp2';'\\col-fs01\GIS_Shared$\DRCOG_2021\Imagery Data\N2W142b.jp2';'\\col-fs01\GIS_Shared$\DRCOG_2021\Imagery Data\N2W142c.jp2';'\\col-fs01\GIS_Shared$\DRCOG_2021\Imagery Data\N2W142d.jp2';'\\col-fs01\GIS_Shared$\DRCOG_2021\Imagery Data\N2W143a.jp2';'\\col-fs01\GIS_Shared$\DRCOG_2021\Imagery Data\N2W143b.jp2';'\\col-fs01\GIS_Shared$\DRCOG_2021\Imagery Data\N2W143c.jp2';'\\col-fs01\GIS_Shared$\DRCOG_2021\Imagery Data\N2W143d.jp2';'\\col-fs01\GIS_Shared$\DRCOG_2021\Imagery Data\N2W144a.jp2';'\\col-fs01\GIS_Shared$\DRCOG_2021\Imagery Data\N2W144b.jp2';'\\col-fs01\GIS_Shared$\DRCOG_2021\Imagery Data\N2W144c.jp2';'\\col-fs01\GIS_Shared$\DRCOG_2021\Imagery Data\N2W144d.jp2';'\\col-fs01\GIS_Shared$\DRCOG_2021\Imagery Data\N2W150a.jp2';'\\col-fs01\GIS_Shared$\DRCOG_2021\Imagery Data\N2W150b.jp2';'\\col-fs01\GIS_Shared$\DRCOG_2021\Imagery Data\N2W150c.jp2';'\\col-fs01\GIS_Shared$\DRCOG_2021\Imagery Data\N2W150d.jp2';'\\col-fs01\GIS_Shared$\DRCOG_2021\Imagery Data\N2W151a.jp2';'\\col-fs01\GIS_Shared$\DRCOG_2021\Imagery Data\N2W151b.jp2';'\\col-fs01\GIS_Shared$\DRCOG_2021\Imagery Data\N2W151c.jp2';'\\col-fs01\GIS_Shared$\DRCOG_2021\Imagery Data\N2W151d.jp2';'\\col-fs01\GIS_Shared$\DRCOG_2021\Imagery Data\N2W152a.jp2';'\\col-fs01\GIS_Shared$\DRCOG_2021\Imagery Data\N2W152b.jp2';'\\col-fs01\GIS_Shared$\DRCOG_2021\Imagery Data\N2W152c.jp2';'\\col-fs01\GIS_Shared$\DRCOG_2021\Imagery Data\N2W152d.jp2';'\\col-fs01\GIS_Shared$\DRCOG_2021\Imagery Data\N2W153a.jp2';'\\col-fs01\GIS_Shared$\DRCOG_2021\Imagery Data\N2W153b.jp2';'\\col-fs01\GIS_Shared$\DRCOG_2021\Imagery Data\N2W153c.jp2';'\\col-fs01\GIS_Shared$\DRCOG_2021\Imagery Data\N2W153d.jp2';'\\col-fs01\GIS_Shared$\DRCOG_2021\Imagery Data\N2W154a.jp2';'\\col-fs01\GIS_Shared$\DRCOG_2021\Imagery Data\N2W154b.jp2';'\\col-fs01\GIS_Shared$\DRCOG_2021\Imagery Data\N2W154c.jp2';'\\col-fs01\GIS_Shared$\DRCOG_2021\Imagery Data\N2W154d.jp2';'\\col-fs01\GIS_Shared$\DRCOG_2021\Imagery Data\N2W160a.jp2';'\\col-fs01\GIS_Shared$\DRCOG_2021\Imagery Data\N2W160b.jp2';'\\col-fs01\GIS_Shared$\DRCOG_2021\Imagery Data\N2W160c.jp2';'\\col-fs01\GIS_Shared$\DRCOG_2021\Imagery Data\N2W160d.jp2';'\\col-fs01\GIS_Shared$\DRCOG_2021\Imagery Data\N2W161a.jp2';'\\col-fs01\GIS_Shared$\DRCOG_2021\Imagery Data\N2W161b.jp2';'\\col-fs01\GIS_Shared$\DRCOG_2021\Imagery Data\N2W161c.jp2';'\\col-fs01\GIS_Shared$\DRCOG_2021\Imagery Data\N2W161d.jp2';'\\col-fs01\GIS_Shared$\DRCOG_2021\Imagery Data\N2W162a.jp2';'\\col-fs01\GIS_Shared$\DRCOG_2021\Imagery Data\N2W162b.jp2';'\\col-fs01\GIS_Shared$\DRCOG_2021\Imagery Data\N2W162c.jp2';'\\col-fs01\GIS_Shared$\DRCOG_2021\Imagery Data\N2W162d.jp2';'\\col-fs01\GIS_Shared$\DRCOG_2021\Imagery Data\N2W163a.jp2';'\\col-fs01\GIS_Shared$\DRCOG_2021\Imagery Data\N2W163b.jp2';'\\col-fs01\GIS_Shared$\DRCOG_2021\Imagery Data\N2W163c.jp2';'\\col-fs01\GIS_Shared$\DRCOG_2021\Imagery Data\N2W163d.jp2';'\\col-fs01\GIS_Shared$\DRCOG_2021\Imagery Data\N2W164a.jp2';'\\col-fs01\GIS_Shared$\DRCOG_2021\Imagery Data\N2W164b.jp2';'\\col-fs01\GIS_Shared$\DRCOG_2021\Imagery Data\N2W164c.jp2';'\\col-fs01\GIS_Shared$\DRCOG_2021\Imagery Data\N2W164d.jp2';'\\col-fs01\GIS_Shared$\DRCOG_2021\Imagery Data\N2W170a.jp2';'\\col-fs01\GIS_Shared$\DRCOG_2021\Imagery Data\N2W170b.jp2';'\\col-fs01\GIS_Shared$\DRCOG_2021\Imagery Data\N2W170c.jp2';'\\col-fs01\GIS_Shared$\DRCOG_2021\Imagery Data\N2W170d.jp2';'\\col-fs01\GIS_Shared$\DRCOG_2021\Imagery Data\N2W171a.jp2';'\\col-fs01\GIS_Shared$\DRCOG_2021\Imagery Data\N2W171b.jp2';'\\col-fs01\GIS_Shared$\DRCOG_2021\Imagery Data\N2W171c.jp2';'\\col-fs01\GIS_Shared$\DRCOG_2021\Imagery Data\N2W171d.jp2';'\\col-fs01\GIS_Shared$\DRCOG_2021\Imagery Data\N2W172a.jp2';'\\col-fs01\GIS_Shared$\DRCOG_2021\Imagery Data\N2W172b.jp2';'\\col-fs01\GIS_Shared$\DRCOG_2021\Imagery Data\N2W172c.jp2';'\\col-fs01\GIS_Shared$\DRCOG_2021\Imagery Data\N2W172d.jp2';'\\col-fs01\GIS_Shared$\DRCOG_2021\Imagery Data\N2W173a.jp2';'\\col-fs01\GIS_Shared$\DRCOG_2021\Imagery Data\N2W173b.jp2';'\\col-fs01\GIS_Shared$\DRCOG_2021\Imagery Data\N2W173c.jp2';'\\col-fs01\GIS_Shared$\DRCOG_2021\Imagery Data\N2W173d.jp2';'\\col-fs01\GIS_Shared$\DRCOG_2021\Imagery Data\N2W249a.jp2';'\\col-fs01\GIS_Shared$\DRCOG_2021\Imagery Data\N2W249b.jp2';'\\col-fs01\GIS_Shared$\DRCOG_2021\Imagery Data\N2W249c.jp2';'\\col-fs01\GIS_Shared$\DRCOG_2021\Imagery Data\N2W249d.jp2';'\\col-fs01\GIS_Shared$\DRCOG_2021\Imagery Data\N2W259a.jp2';'\\col-fs01\GIS_Shared$\DRCOG_2021\Imagery Data\N2W259b.jp2';'\\col-fs01\GIS_Shared$\DRCOG_2021\Imagery Data\N2W259c.jp2';'\\col-fs01\GIS_Shared$\DRCOG_2021\Imagery Data\N2W259d.jp2';'\\col-fs01\GIS_Shared$\DRCOG_2021\Imagery Data\N2W269a.jp2';'\\col-fs01\GIS_Shared$\DRCOG_2021\Imagery Data\N2W269b.jp2';'\\col-fs01\GIS_Shared$\DRCOG_2021\Imagery Data\N2W269c.jp2';'\\col-fs01\GIS_Shared$\DRCOG_2021\Imagery Data\N2W269d.jp2' UPDATE_CELL_SIZES UPDATE_BOUNDARY NO_OVERVIEWS # 0 1500 # # SUBFOLDERS "Allow duplicates" BUILD_PYRAMIDS NO_STATISTICS NO_THUMBNAILS # NO_FORCE_SPATIAL_REFERENCE NO_STATISTICS # NO_PIXEL_CACHE C:\Users\kkendall\AppData\Local\ESRI\rasterproxies\COL_Imagery_2020</Process>
<Process Date="20210408" Time="105958" ToolSource="d:\program files (x86)\arcgis\desktop10.6\ArcToolbox\Toolboxes\Data Management Tools.tbx\CopyRaster">CopyRaster "\\col-fs01\GIS_Shared$\DRCOG_2021\Imagery 2020.gdb\COL_Imagery_2020" \\col-fs01\GIS_Shared$\DRCOG_2021\COL_Imagery_2020.jp2 # # 256 NONE NONE # NONE NONE JPEG2000 NONE</Process>
<Process Date="20210415" Time="175857" ToolSource="c:\program files\arcgis\pro\Resources\ArcToolbox\toolboxes\Data Management Tools.tbx\Clip">Clip COL_Imagery_2020.jp2 "3083321.45498656 1758402.76521682 3114999.18019705 1790079.00684447" \\col-fs01\GIS_Shared$\DRCOG_2021\COL_Imagery2020.jp2 imagery_cliparea 256 ClippingGeometry MAINTAIN_EXTENT</Process>
<Process Date="20210422" Time="213052" ToolSource="c:\program files\arcgis\pro\Resources\ArcToolbox\toolboxes\Data Management Tools.tbx\CopyRaster">CopyRaster \\col-fs01\GIS_Shared$\DRCOG_2021\COL_Imagery2020.jp2 "D:\NorthLineGIS\Imagery and DEM Pro Project _ TEMP\COL-GIS-SDE2(2).sde\BaseData.DBO.COL_Imagery2020" # # 256 NONE NONE # NONE NONE "Esri Grid" NONE CURRENT_SLICE NO_TRANSPOSE</Process>
</lineage>
<itemProps>
<itemName Sync="TRUE">BaseData.DBO.DRAPP_2020</itemName>
<itemLocation>
<linkage Sync="TRUE">Server=COL-GIS-SDE2; Service=sde:sqlserver:COL-GIS-SDE2; Database=BaseData; Version=dbo.DEFAULT</linkage>
<protocol Sync="TRUE">ArcSDE Connection</protocol>
</itemLocation>
<imsContentType Sync="TRUE">002</imsContentType>
<nativeExtBox>
<westBL Sync="TRUE">3083321.454987</westBL>
<eastBL Sync="TRUE">3114999.180197</eastBL>
<southBL Sync="TRUE">1758402.765217</southBL>
<northBL Sync="TRUE">1790079.006844</northBL>
<exTypeCode Sync="TRUE">1</exTypeCode>
</nativeExtBox>
</itemProps>
<coordRef>
<type Sync="TRUE">Projected</type>
<geogcsn Sync="TRUE">GCS_North_American_1983</geogcsn>
<csUnits Sync="TRUE">Linear Unit: Foot_US (0.304801)</csUnits>
<projcsn Sync="TRUE">NAD_1983_StatePlane_Colorado_Central_FIPS_0502_Feet</projcsn>
<peXml Sync="TRUE">&lt;ProjectedCoordinateSystem xsi:type='typens:ProjectedCoordinateSystem' xmlns:xsi='http://www.w3.org/2001/XMLSchema-instance' xmlns:xs='http://www.w3.org/2001/XMLSchema' xmlns:typens='http://www.esri.com/schemas/ArcGIS/10.8'&gt;&lt;WKT&gt;PROJCS[&amp;quot;NAD_1983_StatePlane_Colorado_Central_FIPS_0502_Feet&amp;quot;,GEOGCS[&amp;quot;GCS_North_American_1983&amp;quot;,DATUM[&amp;quot;D_North_American_1983&amp;quot;,SPHEROID[&amp;quot;GRS_1980&amp;quot;,6378137.0,298.257222101]],PRIMEM[&amp;quot;Greenwich&amp;quot;,0.0],UNIT[&amp;quot;Degree&amp;quot;,0.0174532925199433]],PROJECTION[&amp;quot;Lambert_Conformal_Conic&amp;quot;],PARAMETER[&amp;quot;False_Easting&amp;quot;,3000000.000316083],PARAMETER[&amp;quot;False_Northing&amp;quot;,999999.999996],PARAMETER[&amp;quot;Central_Meridian&amp;quot;,-105.5],PARAMETER[&amp;quot;Standard_Parallel_1&amp;quot;,38.45],PARAMETER[&amp;quot;Standard_Parallel_2&amp;quot;,39.75],PARAMETER[&amp;quot;Latitude_Of_Origin&amp;quot;,37.83333333333334],UNIT[&amp;quot;Foot_US&amp;quot;,0.3048006096012192],AUTHORITY[&amp;quot;EPSG&amp;quot;,2232]]&lt;/WKT&gt;&lt;XOrigin&gt;-118767900&lt;/XOrigin&gt;&lt;YOrigin&gt;-94525500&lt;/YOrigin&gt;&lt;XYScale&gt;36985113.707064793&lt;/XYScale&gt;&lt;ZOrigin&gt;-100000&lt;/ZOrigin&gt;&lt;ZScale&gt;10000&lt;/ZScale&gt;&lt;MOrigin&gt;-100000&lt;/MOrigin&gt;&lt;MScale&gt;10000&lt;/MScale&gt;&lt;XYTolerance&gt;0.0032808333333333331&lt;/XYTolerance&gt;&lt;ZTolerance&gt;0.00020000000000000001&lt;/ZTolerance&gt;&lt;MTolerance&gt;0.00020000000000000001&lt;/MTolerance&gt;&lt;HighPrecision&gt;true&lt;/HighPrecision&gt;&lt;WKID&gt;102654&lt;/WKID&gt;&lt;LatestWKID&gt;2232&lt;/LatestWKID&gt;&lt;/ProjectedCoordinateSystem&gt;</peXml>
</coordRef>
<RasterProperties>
<General>
<PixelDepth Sync="TRUE">16</PixelDepth>
<HasColormap Sync="TRUE">FALSE</HasColormap>
<CompressionType Sync="TRUE">JPEG2000</CompressionType>
<NumBands Sync="TRUE">4</NumBands>
<Format Sync="TRUE">JP2</Format>
<HasPyramids Sync="TRUE">TRUE</HasPyramids>
<SourceType Sync="TRUE">continuous</SourceType>
<PixelType Sync="TRUE">unsigned integer</PixelType>
<NoDataValue Sync="TRUE">256</NoDataValue>
</General>
</RasterProperties>
</DataProperties>
<SyncDate>20230323</SyncDate>
<SyncTime>18513800</SyncTime>
<ModDate>20230323</ModDate>
<ModTime>18513800</ModTime>
</Esri>
<dataIdInfo>
<envirDesc Sync="TRUE"> Version 6.2 (Build 9200) ; Esri ArcGIS 10.8.0.12790</envirDesc>
<dataLang>
<languageCode Sync="TRUE" value="eng"/>
<countryCode Sync="TRUE" value="USA"/>
</dataLang>
<idCitation>
<resTitle Sync="TRUE">Imagery 2020</resTitle>
<presForm>
<PresFormCd Sync="TRUE" value="011"/>
</presForm>
</idCitation>
<spatRpType>
<SpatRepTypCd Sync="TRUE" value="002"/>
</spatRpType>
<dataExt>
<geoEle>
<GeoBndBox esriExtentType="search">
<exTypeCode Sync="TRUE">1</exTypeCode>
<westBL Sync="TRUE">-105.202974</westBL>
<eastBL Sync="TRUE">-105.089539</eastBL>
<northBL Sync="TRUE">40.002204</northBL>
<southBL Sync="TRUE">39.914916</southBL>
</GeoBndBox>
</geoEle>
</dataExt>
<idAbs/>
<searchKeys>
<keyword>Louisville</keyword>
<keyword>Colorado</keyword>
<keyword>Boulder County</keyword>
<keyword>Imagery</keyword>
<keyword>Aerial</keyword>
</searchKeys>
<idPurp>City of Louisville, Colorado DRCOG DRAPP aerial imagery</idPurp>
<idCredit/>
<resConst>
<Consts>
<useLimit/>
</Consts>
</resConst>
</dataIdInfo>
<mdLang>
<languageCode Sync="TRUE" value="eng"/>
<countryCode Sync="TRUE" value="USA"/>
</mdLang>
<distInfo>
<distFormat>
<formatName Sync="TRUE">SDE Raster Dataset</formatName>
</distFormat>
</distInfo>
<mdHrLv>
<ScopeCd Sync="TRUE" value="005"/>
</mdHrLv>
<mdHrLvName Sync="TRUE">dataset</mdHrLvName>
<refSysInfo>
<RefSystem>
<refSysID>
<identCode Sync="TRUE" code="2232"/>
<idCodeSpace Sync="TRUE">EPSG</idCodeSpace>
<idVersion Sync="TRUE">5.3(9.0.0)</idVersion>
</refSysID>
</RefSystem>
</refSysInfo>
<spatRepInfo>
<Georect>
<cellGeo>
<CellGeoCd Sync="TRUE" value="002"/>
</cellGeo>
<numDims Sync="TRUE">2</numDims>
<tranParaAv Sync="TRUE">1</tranParaAv>
<chkPtAv Sync="TRUE">0</chkPtAv>
<cornerPts>
<pos Sync="TRUE">3083321.454987 1758402.765217</pos>
</cornerPts>
<cornerPts>
<pos Sync="TRUE">3083321.454987 1790079.006844</pos>
</cornerPts>
<cornerPts>
<pos Sync="TRUE">3114999.180197 1790079.006844</pos>
</cornerPts>
<cornerPts>
<pos Sync="TRUE">3114999.180197 1758402.765217</pos>
</cornerPts>
<centerPt>
<pos Sync="TRUE">3099160.317592 1774240.886031</pos>
</centerPt>
<axisDimension type="002">
<dimSize Sync="TRUE">126711</dimSize>
<dimResol>
<value Sync="TRUE" uom="ftUS">0.250000</value>
</dimResol>
</axisDimension>
<axisDimension type="001">
<dimSize Sync="TRUE">126705</dimSize>
<dimResol>
<value Sync="TRUE" uom="ftUS">0.250000</value>
</dimResol>
</axisDimension>
<ptInPixel>
<PixOrientCd Sync="TRUE" value="001"/>
</ptInPixel>
</Georect>
</spatRepInfo>
<contInfo>
<ImgDesc>
<contentTyp>
<ContentTypCd Sync="TRUE" value="001"/>
</contentTyp>
<covDim>
<Band>
<dimDescrp Sync="TRUE">Band_1</dimDescrp>
<bitsPerVal Sync="TRUE">16</bitsPerVal>
<valUnit>
<UOM type="length"/>
</valUnit>
</Band>
<Band>
<dimDescrp Sync="TRUE">Band_2</dimDescrp>
<bitsPerVal Sync="TRUE">16</bitsPerVal>
<valUnit>
<UOM type="length"/>
</valUnit>
</Band>
<Band>
<dimDescrp Sync="TRUE">Band_3</dimDescrp>
<bitsPerVal Sync="TRUE">16</bitsPerVal>
<valUnit>
<UOM type="length"/>
</valUnit>
</Band>
<Band>
<dimDescrp Sync="TRUE">Band_4</dimDescrp>
<bitsPerVal Sync="TRUE">16</bitsPerVal>
<valUnit>
<UOM type="length"/>
</valUnit>
</Band>
</covDim>
</ImgDesc>
</contInfo>
<mdDateSt Sync="TRUE">20230323</mdDateSt>
<spdoinfo>
<rastinfo>
<rasttype Sync="TRUE">Pixel</rasttype>
<rowcount Sync="TRUE">126705</rowcount>
<colcount Sync="TRUE">126711</colcount>
<rastxsz Sync="TRUE">0.250000</rastxsz>
<rastysz Sync="TRUE">0.250000</rastysz>
<rastbpp Sync="TRUE">16</rastbpp>
<vrtcount Sync="TRUE">1</vrtcount>
<rastorig Sync="TRUE">Upper Left</rastorig>
<rastcmap Sync="TRUE">FALSE</rastcmap>
<rastcomp Sync="TRUE">LZ77</rastcomp>
<rastband Sync="TRUE">4</rastband>
<rastdtyp Sync="TRUE">pixel codes</rastdtyp>
<rastifor Sync="TRUE">SDR</rastifor>
<rastplyr Sync="TRUE">TRUE</rastplyr>
</rastinfo>
</spdoinfo>
<spref>
<horizsys>
<planar>
<planci>
<plance Sync="TRUE">row and column</plance>
<coordrep>
<absres Sync="TRUE">0.250000</absres>
<ordres Sync="TRUE">0.250000</ordres>
</coordrep>
</planci>
</planar>
</horizsys>
</spref>
</metadata>
