<?xml version="1.0" encoding="UTF-8" standalone="no"?>
<metadata xml:lang="en">
<Esri>
<CreaDate>20190217</CreaDate>
<CreaTime>09552100</CreaTime>
<ArcGISFormat>1.0</ArcGISFormat>
<SyncOnce>FALSE</SyncOnce>
<DataProperties>
<lineage>
<Process Date="20190217" Time="095521" ToolSource="s:\program files (x86)\arcgis\desktop10.6\ArcToolbox\Toolboxes\Data Management Tools.tbx\CreateRasterDataset">CreateRasterDataset "Database Connections\DBA_BaseData.sde" DRAPP_2018 0.5 8_BIT_UNSIGNED PROJCS['NAD_1983_HARN_StatePlane_Colorado_North_FIPS_0501_Feet',GEOGCS['GCS_North_American_1983_HARN',DATUM['D_North_American_1983_HARN',SPHEROID['GRS_1980',6378137.0,298.257222101]],PRIMEM['Greenwich',0.0],UNIT['Degree',0.0174532925199433]],PROJECTION['Lambert_Conformal_Conic'],PARAMETER['False_Easting',3000000.000316083],PARAMETER['False_Northing',999999.999996],PARAMETER['Central_Meridian',-105.5],PARAMETER['Standard_Parallel_1',39.71666666666667],PARAMETER['Standard_Parallel_2',40.78333333333333],PARAMETER['Latitude_Of_Origin',39.33333333333334],UNIT['Foot_US',0.3048006096012192]] 4 # "PYRAMIDS -1 NEAREST DEFAULT 75 NO_SKIP" "128 128" LZ77 "-118265153.55037 79822152.6602041"</Process>
<Process Date="20190217" Time="103001" ToolSource="s:\program files (x86)\arcgis\desktop10.6\ArcToolbox\Toolboxes\Data Management Tools.tbx\Mosaic">Mosaic 'D:\2018 DRCOG DRAPP\Orthoimagery\3in_JP2\N2W120a.jp2';'D:\2018 DRCOG DRAPP\Orthoimagery\3in_JP2\N2W120b.jp2';'D:\2018 DRCOG DRAPP\Orthoimagery\3in_JP2\N2W120c.jp2';'D:\2018 DRCOG DRAPP\Orthoimagery\3in_JP2\N2W120d.jp2';'D:\2018 DRCOG DRAPP\Orthoimagery\3in_JP2\N2W121a.jp2';'D:\2018 DRCOG DRAPP\Orthoimagery\3in_JP2\N2W121b.jp2';'D:\2018 DRCOG DRAPP\Orthoimagery\3in_JP2\N2W121c.jp2';'D:\2018 DRCOG DRAPP\Orthoimagery\3in_JP2\N2W121d.jp2';'D:\2018 DRCOG DRAPP\Orthoimagery\3in_JP2\N2W122a.jp2';'D:\2018 DRCOG DRAPP\Orthoimagery\3in_JP2\N2W122b.jp2';'D:\2018 DRCOG DRAPP\Orthoimagery\3in_JP2\N2W122c.jp2';'D:\2018 DRCOG DRAPP\Orthoimagery\3in_JP2\N2W122d.jp2';'D:\2018 DRCOG DRAPP\Orthoimagery\3in_JP2\N2W123a.jp2';'D:\2018 DRCOG DRAPP\Orthoimagery\3in_JP2\N2W123b.jp2';'D:\2018 DRCOG DRAPP\Orthoimagery\3in_JP2\N2W123c.jp2';'D:\2018 DRCOG DRAPP\Orthoimagery\3in_JP2\N2W123d.jp2';'D:\2018 DRCOG DRAPP\Orthoimagery\3in_JP2\N2W124a.jp2';'D:\2018 DRCOG DRAPP\Orthoimagery\3in_JP2\N2W124b.jp2';'D:\2018 DRCOG DRAPP\Orthoimagery\3in_JP2\N2W124c.jp2';'D:\2018 DRCOG DRAPP\Orthoimagery\3in_JP2\N2W124d.jp2';'D:\2018 DRCOG DRAPP\Orthoimagery\3in_JP2\N2W130a.jp2';'D:\2018 DRCOG DRAPP\Orthoimagery\3in_JP2\N2W130b.jp2';'D:\2018 DRCOG DRAPP\Orthoimagery\3in_JP2\N2W130c.jp2';'D:\2018 DRCOG DRAPP\Orthoimagery\3in_JP2\N2W130d.jp2';'D:\2018 DRCOG DRAPP\Orthoimagery\3in_JP2\N2W131a.jp2';'D:\2018 DRCOG DRAPP\Orthoimagery\3in_JP2\N2W131b.jp2';'D:\2018 DRCOG DRAPP\Orthoimagery\3in_JP2\N2W131c.jp2';'D:\2018 DRCOG DRAPP\Orthoimagery\3in_JP2\N2W131d.jp2';'D:\2018 DRCOG DRAPP\Orthoimagery\3in_JP2\N2W132a.jp2';'D:\2018 DRCOG DRAPP\Orthoimagery\3in_JP2\N2W132b.jp2';'D:\2018 DRCOG DRAPP\Orthoimagery\3in_JP2\N2W132c.jp2';'D:\2018 DRCOG DRAPP\Orthoimagery\3in_JP2\N2W132d.jp2';'D:\2018 DRCOG DRAPP\Orthoimagery\3in_JP2\N2W133a.jp2';'D:\2018 DRCOG DRAPP\Orthoimagery\3in_JP2\N2W133b.jp2';'D:\2018 DRCOG DRAPP\Orthoimagery\3in_JP2\N2W133c.jp2';'D:\2018 DRCOG DRAPP\Orthoimagery\3in_JP2\N2W133d.jp2';'D:\2018 DRCOG DRAPP\Orthoimagery\3in_JP2\N2W134a.jp2';'D:\2018 DRCOG DRAPP\Orthoimagery\3in_JP2\N2W134b.jp2';'D:\2018 DRCOG DRAPP\Orthoimagery\3in_JP2\N2W134c.jp2';'D:\2018 DRCOG DRAPP\Orthoimagery\3in_JP2\N2W134d.jp2';'D:\2018 DRCOG DRAPP\Orthoimagery\3in_JP2\N2W140a.jp2';'D:\2018 DRCOG DRAPP\Orthoimagery\3in_JP2\N2W140b.jp2';'D:\2018 DRCOG DRAPP\Orthoimagery\3in_JP2\N2W140c.jp2';'D:\2018 DRCOG DRAPP\Orthoimagery\3in_JP2\N2W140d.jp2';'D:\2018 DRCOG DRAPP\Orthoimagery\3in_JP2\N2W141a.jp2';'D:\2018 DRCOG DRAPP\Orthoimagery\3in_JP2\N2W141b.jp2';'D:\2018 DRCOG DRAPP\Orthoimagery\3in_JP2\N2W141c.jp2';'D:\2018 DRCOG DRAPP\Orthoimagery\3in_JP2\N2W141d.jp2';'D:\2018 DRCOG DRAPP\Orthoimagery\3in_JP2\N2W142a.jp2';'D:\2018 DRCOG DRAPP\Orthoimagery\3in_JP2\N2W142b.jp2';'D:\2018 DRCOG DRAPP\Orthoimagery\3in_JP2\N2W142c.jp2';'D:\2018 DRCOG DRAPP\Orthoimagery\3in_JP2\N2W142d.jp2';'D:\2018 DRCOG DRAPP\Orthoimagery\3in_JP2\N2W143a.jp2';'D:\2018 DRCOG DRAPP\Orthoimagery\3in_JP2\N2W143b.jp2';'D:\2018 DRCOG DRAPP\Orthoimagery\3in_JP2\N2W143c.jp2';'D:\2018 DRCOG DRAPP\Orthoimagery\3in_JP2\N2W143d.jp2';'D:\2018 DRCOG DRAPP\Orthoimagery\3in_JP2\N2W144a.jp2';'D:\2018 DRCOG DRAPP\Orthoimagery\3in_JP2\N2W144b.jp2';'D:\2018 DRCOG DRAPP\Orthoimagery\3in_JP2\N2W144c.jp2';'D:\2018 DRCOG DRAPP\Orthoimagery\3in_JP2\N2W144d.jp2';'D:\2018 DRCOG DRAPP\Orthoimagery\3in_JP2\N2W150a.jp2';'D:\2018 DRCOG DRAPP\Orthoimagery\3in_JP2\N2W150b.jp2';'D:\2018 DRCOG DRAPP\Orthoimagery\3in_JP2\N2W150c.jp2';'D:\2018 DRCOG DRAPP\Orthoimagery\3in_JP2\N2W150d.jp2';'D:\2018 DRCOG DRAPP\Orthoimagery\3in_JP2\N2W151a.jp2';'D:\2018 DRCOG DRAPP\Orthoimagery\3in_JP2\N2W151b.jp2';'D:\2018 DRCOG DRAPP\Orthoimagery\3in_JP2\N2W151c.jp2';'D:\2018 DRCOG DRAPP\Orthoimagery\3in_JP2\N2W151d.jp2';'D:\2018 DRCOG DRAPP\Orthoimagery\3in_JP2\N2W152a.jp2';'D:\2018 DRCOG DRAPP\Orthoimagery\3in_JP2\N2W152b.jp2';'D:\2018 DRCOG DRAPP\Orthoimagery\3in_JP2\N2W152c.jp2';'D:\2018 DRCOG DRAPP\Orthoimagery\3in_JP2\N2W152d.jp2';'D:\2018 DRCOG DRAPP\Orthoimagery\3in_JP2\N2W153a.jp2';'D:\2018 DRCOG DRAPP\Orthoimagery\3in_JP2\N2W153b.jp2';'D:\2018 DRCOG DRAPP\Orthoimagery\3in_JP2\N2W153c.jp2';'D:\2018 DRCOG DRAPP\Orthoimagery\3in_JP2\N2W153d.jp2';'D:\2018 DRCOG DRAPP\Orthoimagery\3in_JP2\N2W154a.jp2';'D:\2018 DRCOG DRAPP\Orthoimagery\3in_JP2\N2W154b.jp2';'D:\2018 DRCOG DRAPP\Orthoimagery\3in_JP2\N2W154c.jp2';'D:\2018 DRCOG DRAPP\Orthoimagery\3in_JP2\N2W154d.jp2';'D:\2018 DRCOG DRAPP\Orthoimagery\3in_JP2\N2W160a.jp2';'D:\2018 DRCOG DRAPP\Orthoimagery\3in_JP2\N2W160b.jp2';'D:\2018 DRCOG DRAPP\Orthoimagery\3in_JP2\N2W160c.jp2';'D:\2018 DRCOG DRAPP\Orthoimagery\3in_JP2\N2W160d.jp2';'D:\2018 DRCOG DRAPP\Orthoimagery\3in_JP2\N2W161a.jp2';'D:\2018 DRCOG DRAPP\Orthoimagery\3in_JP2\N2W161b.jp2';'D:\2018 DRCOG DRAPP\Orthoimagery\3in_JP2\N2W161c.jp2';'D:\2018 DRCOG DRAPP\Orthoimagery\3in_JP2\N2W161d.jp2';'D:\2018 DRCOG DRAPP\Orthoimagery\3in_JP2\N2W162a.jp2';'D:\2018 DRCOG DRAPP\Orthoimagery\3in_JP2\N2W162b.jp2';'D:\2018 DRCOG DRAPP\Orthoimagery\3in_JP2\N2W162c.jp2';'D:\2018 DRCOG DRAPP\Orthoimagery\3in_JP2\N2W162d.jp2';'D:\2018 DRCOG DRAPP\Orthoimagery\3in_JP2\N2W163a.jp2';'D:\2018 DRCOG DRAPP\Orthoimagery\3in_JP2\N2W163b.jp2';'D:\2018 DRCOG DRAPP\Orthoimagery\3in_JP2\N2W163c.jp2';'D:\2018 DRCOG DRAPP\Orthoimagery\3in_JP2\N2W163d.jp2';'D:\2018 DRCOG DRAPP\Orthoimagery\3in_JP2\N2W164a.jp2';'D:\2018 DRCOG DRAPP\Orthoimagery\3in_JP2\N2W164b.jp2';'D:\2018 DRCOG DRAPP\Orthoimagery\3in_JP2\N2W164c.jp2';'D:\2018 DRCOG DRAPP\Orthoimagery\3in_JP2\N2W164d.jp2';'D:\2018 DRCOG DRAPP\Orthoimagery\3in_JP2\N2W170a.jp2';'D:\2018 DRCOG DRAPP\Orthoimagery\3in_JP2\N2W170b.jp2';'D:\2018 DRCOG DRAPP\Orthoimagery\3in_JP2\N2W170c.jp2';'D:\2018 DRCOG DRAPP\Orthoimagery\3in_JP2\N2W170d.jp2';'D:\2018 DRCOG DRAPP\Orthoimagery\3in_JP2\N2W171a.jp2';'D:\2018 DRCOG DRAPP\Orthoimagery\3in_JP2\N2W171b.jp2';'D:\2018 DRCOG DRAPP\Orthoimagery\3in_JP2\N2W171c.jp2';'D:\2018 DRCOG DRAPP\Orthoimagery\3in_JP2\N2W171d.jp2';'D:\2018 DRCOG DRAPP\Orthoimagery\3in_JP2\N2W172a.jp2';'D:\2018 DRCOG DRAPP\Orthoimagery\3in_JP2\N2W172b.jp2';'D:\2018 DRCOG DRAPP\Orthoimagery\3in_JP2\N2W172c.jp2';'D:\2018 DRCOG DRAPP\Orthoimagery\3in_JP2\N2W172d.jp2';'D:\2018 DRCOG DRAPP\Orthoimagery\3in_JP2\N2W173a.jp2';'D:\2018 DRCOG DRAPP\Orthoimagery\3in_JP2\N2W173b.jp2';'D:\2018 DRCOG DRAPP\Orthoimagery\3in_JP2\N2W173c.jp2';'D:\2018 DRCOG DRAPP\Orthoimagery\3in_JP2\N2W173d.jp2';'D:\2018 DRCOG DRAPP\Orthoimagery\3in_JP2\N2W249a.jp2';'D:\2018 DRCOG DRAPP\Orthoimagery\3in_JP2\N2W249b.jp2';'D:\2018 DRCOG DRAPP\Orthoimagery\3in_JP2\N2W249c.jp2';'D:\2018 DRCOG DRAPP\Orthoimagery\3in_JP2\N2W249d.jp2';'D:\2018 DRCOG DRAPP\Orthoimagery\3in_JP2\N2W259a.jp2';'D:\2018 DRCOG DRAPP\Orthoimagery\3in_JP2\N2W259b.jp2';'D:\2018 DRCOG DRAPP\Orthoimagery\3in_JP2\N2W259c.jp2';'D:\2018 DRCOG DRAPP\Orthoimagery\3in_JP2\N2W259d.jp2';'D:\2018 DRCOG DRAPP\Orthoimagery\3in_JP2\N2W269a.jp2';'D:\2018 DRCOG DRAPP\Orthoimagery\3in_JP2\N2W269b.jp2';'D:\2018 DRCOG DRAPP\Orthoimagery\3in_JP2\N2W269c.jp2';'D:\2018 DRCOG DRAPP\Orthoimagery\3in_JP2\N2W269d.jp2' "Database Connections\DBA_BaseData.sde\BaseData.DBO.DRAPP_2018" LAST FIRST # # NONE 0 NONE</Process>
</lineage>
<itemProps>
<itemName Sync="TRUE">BaseData.DBO.DRAPP_2018</itemName>
<imsContentType Sync="TRUE">002</imsContentType>
<nativeExtBox>
<westBL Sync="TRUE">3083311.949630</westBL>
<eastBL Sync="TRUE">3114991.949630</eastBL>
<southBL Sync="TRUE">1212113.160204</southBL>
<northBL Sync="TRUE">1243793.160204</northBL>
<exTypeCode Sync="TRUE">1</exTypeCode>
</nativeExtBox>
<itemLocation>
<linkage Sync="TRUE">Server=COL-GIS-SDE2; Service=sde:sqlserver:COL-GIS-SDE2; Database=BaseData; User=DBA; Version=dbo.DEFAULT</linkage>
<protocol Sync="TRUE">ArcSDE Connection</protocol>
</itemLocation>
</itemProps>
<coordRef>
<type Sync="TRUE">Projected</type>
<geogcsn Sync="TRUE">GCS_North_American_1983_HARN</geogcsn>
<csUnits Sync="TRUE">Linear Unit: Foot_US (0.304801)</csUnits>
<projcsn Sync="TRUE">NAD_1983_HARN_StatePlane_Colorado_North_FIPS_0501_Feet</projcsn>
<peXml Sync="TRUE">&lt;ProjectedCoordinateSystem xsi:type='typens:ProjectedCoordinateSystem' xmlns:xsi='http://www.w3.org/2001/XMLSchema-instance' xmlns:xs='http://www.w3.org/2001/XMLSchema' xmlns:typens='http://www.esri.com/schemas/ArcGIS/10.6'&gt;&lt;WKT&gt;PROJCS[&amp;quot;NAD_1983_HARN_StatePlane_Colorado_North_FIPS_0501_Feet&amp;quot;,GEOGCS[&amp;quot;GCS_North_American_1983_HARN&amp;quot;,DATUM[&amp;quot;D_North_American_1983_HARN&amp;quot;,SPHEROID[&amp;quot;GRS_1980&amp;quot;,6378137.0,298.257222101]],PRIMEM[&amp;quot;Greenwich&amp;quot;,0.0],UNIT[&amp;quot;Degree&amp;quot;,0.0174532925199433]],PROJECTION[&amp;quot;Lambert_Conformal_Conic&amp;quot;],PARAMETER[&amp;quot;False_Easting&amp;quot;,3000000.000316083],PARAMETER[&amp;quot;False_Northing&amp;quot;,999999.999996],PARAMETER[&amp;quot;Central_Meridian&amp;quot;,-105.5],PARAMETER[&amp;quot;Standard_Parallel_1&amp;quot;,39.71666666666667],PARAMETER[&amp;quot;Standard_Parallel_2&amp;quot;,40.78333333333333],PARAMETER[&amp;quot;Latitude_Of_Origin&amp;quot;,39.33333333333334],UNIT[&amp;quot;Foot_US&amp;quot;,0.3048006096012192],AUTHORITY[&amp;quot;EPSG&amp;quot;,2876]]&lt;/WKT&gt;&lt;XOrigin&gt;-118265500&lt;/XOrigin&gt;&lt;YOrigin&gt;-95180100&lt;/YOrigin&gt;&lt;XYScale&gt;37138342.128391795&lt;/XYScale&gt;&lt;ZOrigin&gt;-100000&lt;/ZOrigin&gt;&lt;ZScale&gt;10000&lt;/ZScale&gt;&lt;MOrigin&gt;-100000&lt;/MOrigin&gt;&lt;MScale&gt;10000&lt;/MScale&gt;&lt;XYTolerance&gt;0.0032808333333333331&lt;/XYTolerance&gt;&lt;ZTolerance&gt;0.00020000000000000001&lt;/ZTolerance&gt;&lt;MTolerance&gt;0.00020000000000000001&lt;/MTolerance&gt;&lt;HighPrecision&gt;true&lt;/HighPrecision&gt;&lt;WKID&gt;2876&lt;/WKID&gt;&lt;LatestWKID&gt;2876&lt;/LatestWKID&gt;&lt;/ProjectedCoordinateSystem&gt;</peXml>
</coordRef>
</DataProperties>
<SyncDate>20190502</SyncDate>
<SyncTime>12045700</SyncTime>
<ModDate>20190502</ModDate>
<ModTime>12045700</ModTime>
</Esri>
<dataIdInfo>
<envirDesc Sync="TRUE"> Version 6.2 (Build 9200) ; Esri ArcGIS 10.6.1.9270</envirDesc>
<dataLang>
<languageCode Sync="TRUE" value="eng"/>
<countryCode Sync="TRUE" value="USA"/>
</dataLang>
<idCitation>
<resTitle Sync="TRUE">Imagery 2018</resTitle>
<presForm>
<PresFormCd Sync="TRUE" value="011"/>
</presForm>
</idCitation>
<spatRpType>
<SpatRepTypCd Sync="TRUE" value="002"/>
</spatRpType>
<dataExt>
<geoEle>
<GeoBndBox esriExtentType="search">
<exTypeCode Sync="TRUE">1</exTypeCode>
<westBL Sync="TRUE">-105.202989</westBL>
<eastBL Sync="TRUE">-105.089527</eastBL>
<northBL Sync="TRUE">40.002214</northBL>
<southBL Sync="TRUE">39.914900</southBL>
</GeoBndBox>
</geoEle>
</dataExt>
<idAbs/>
<searchKeys>
<keyword>Louisville</keyword>
<keyword>Colorado</keyword>
<keyword>Boulder County</keyword>
<keyword>DRCOG</keyword>
<keyword>DRAPP</keyword>
<keyword>Imagery</keyword>
<keyword>Aerial</keyword>
</searchKeys>
<idPurp>City of Louisville, Colorado DRCOG DRAPP aerial imagery</idPurp>
<idCredit/>
<resConst>
<Consts>
<useLimit/>
</Consts>
</resConst>
</dataIdInfo>
<mdLang>
<languageCode Sync="TRUE" value="eng"/>
<countryCode Sync="TRUE" value="USA"/>
</mdLang>
<distInfo>
<distFormat>
<formatName Sync="TRUE">SDE Raster Dataset</formatName>
</distFormat>
</distInfo>
<mdHrLv>
<ScopeCd Sync="TRUE" value="005"/>
</mdHrLv>
<mdHrLvName Sync="TRUE">dataset</mdHrLvName>
<refSysInfo>
<RefSystem>
<refSysID>
<identCode Sync="TRUE" code="2876"/>
<idCodeSpace Sync="TRUE">EPSG</idCodeSpace>
<idVersion Sync="TRUE">8.9.3(9.0.0)</idVersion>
</refSysID>
</RefSystem>
</refSysInfo>
<spdoinfo>
<rastinfo>
<rasttype Sync="TRUE">Pixel</rasttype>
<rowcount Sync="TRUE">63360</rowcount>
<colcount Sync="TRUE">63360</colcount>
<rastxsz Sync="TRUE">0.500000</rastxsz>
<rastysz Sync="TRUE">0.500000</rastysz>
<rastbpp Sync="TRUE">8</rastbpp>
<vrtcount Sync="TRUE">1</vrtcount>
<rastorig Sync="TRUE">Upper Left</rastorig>
<rastcmap Sync="TRUE">FALSE</rastcmap>
<rastcomp Sync="TRUE">LZ77</rastcomp>
<rastband Sync="TRUE">4</rastband>
<rastdtyp Sync="TRUE">pixel codes</rastdtyp>
<rastifor Sync="TRUE">SDR</rastifor>
<rastplyr Sync="TRUE">TRUE</rastplyr>
</rastinfo>
</spdoinfo>
<spref>
<horizsys>
<planar>
<planci>
<plance Sync="TRUE">row and column</plance>
<coordrep>
<absres Sync="TRUE">0.500000</absres>
<ordres Sync="TRUE">0.500000</ordres>
</coordrep>
</planci>
</planar>
</horizsys>
</spref>
<mdDateSt Sync="TRUE">20190502</mdDateSt>
</metadata>
