<?xml version="1.0" encoding="UTF-8" standalone="no"?>
<metadata xml:lang="en">
<Esri>
<CreaDate>20190228</CreaDate>
<CreaTime>14390600</CreaTime>
<ArcGISFormat>1.0</ArcGISFormat>
<SyncOnce>FALSE</SyncOnce>
<DataProperties>
<lineage>
<Process Date="20190228" Time="143906" ToolSource="c:\program files (x86)\arcgis\desktop10.6\ArcToolbox\Toolboxes\Data Management Tools.tbx\CreateRasterDataset">CreateRasterDataset "Database Connections\Connection to COL-GIS-SDE2 (9).sde" DRAPP_2004 # 8_BIT_UNSIGNED PROJCS['NAD_1983_HARN_StatePlane_Colorado_North_FIPS_0501_Feet',GEOGCS['GCS_North_American_1983_HARN',DATUM['D_North_American_1983_HARN',SPHEROID['GRS_1980',6378137.0,298.257222101]],PRIMEM['Greenwich',0.0],UNIT['Degree',0.0174532925199433]],PROJECTION['Lambert_Conformal_Conic'],PARAMETER['False_Easting',3000000.000316083],PARAMETER['False_Northing',999999.999996],PARAMETER['Central_Meridian',-105.5],PARAMETER['Standard_Parallel_1',39.71666666666667],PARAMETER['Standard_Parallel_2',40.78333333333333],PARAMETER['Latitude_Of_Origin',39.33333333333334],UNIT['Foot_US',0.3048006096012192]] 3 # "PYRAMIDS -1 NEAREST DEFAULT 75 NO_SKIP" "128 128" LZ77 "-118265153.55037 79822152.6602041"</Process>
<Process Date="20190228" Time="201730" ToolSource="c:\program files (x86)\arcgis\desktop10.6\ArcToolbox\Toolboxes\Data Management Tools.tbx\Mosaic">Mosaic K:\Aerials\2004\2004_12_DRAPP_HARN\3110375_1780645.tif;K:\Aerials\2004\2004_12_DRAPP_HARN\3110375_1775645.tif;K:\Aerials\2004\2004_12_DRAPP_HARN\3110375_1770645.tif;K:\Aerials\2004\2004_12_DRAPP_HARN\3110375_1765645.tif;K:\Aerials\2004\2004_12_DRAPP_HARN\3105375_1785645.tif;K:\Aerials\2004\2004_12_DRAPP_HARN\3105375_1780645.tif;K:\Aerials\2004\2004_12_DRAPP_HARN\3105375_1775645.tif;K:\Aerials\2004\2004_12_DRAPP_HARN\3105375_1770645.tif;K:\Aerials\2004\2004_12_DRAPP_HARN\3105375_1765645.tif;K:\Aerials\2004\2004_12_DRAPP_HARN\3105375_1760645.tif;K:\Aerials\2004\2004_12_DRAPP_HARN\3100375_1790645.tif;K:\Aerials\2004\2004_12_DRAPP_HARN\3100375_1785645.tif;K:\Aerials\2004\2004_12_DRAPP_HARN\3100375_1780645.tif;K:\Aerials\2004\2004_12_DRAPP_HARN\3100375_1775645.tif;K:\Aerials\2004\2004_12_DRAPP_HARN\3100375_1770645.tif;K:\Aerials\2004\2004_12_DRAPP_HARN\3100375_1765645.tif;K:\Aerials\2004\2004_12_DRAPP_HARN\3100375_1760645.tif;K:\Aerials\2004\2004_12_DRAPP_HARN\3095375_1785645.tif;K:\Aerials\2004\2004_12_DRAPP_HARN\3095375_1780645.tif;K:\Aerials\2004\2004_12_DRAPP_HARN\3095375_1775645.tif;K:\Aerials\2004\2004_12_DRAPP_HARN\3095375_1770645.tif;K:\Aerials\2004\2004_12_DRAPP_HARN\3095375_1765645.tif;K:\Aerials\2004\2004_12_DRAPP_HARN\3090375_1785645.tif;K:\Aerials\2004\2004_12_DRAPP_HARN\3090375_1780645.tif;K:\Aerials\2004\2004_12_DRAPP_HARN\3090375_1775645.tif;K:\Aerials\2004\2004_12_DRAPP_HARN\3090375_1770645.tif;K:\Aerials\2004\2004_12_DRAPP_HARN\3085375_1780645.tif;K:\Aerials\2004\2004_12_DRAPP_HARN\3085375_1775645.tif;K:\Aerials\2004\2004_12_DRAPP_HARN\3085375_1770645.tif;K:\Aerials\2004\2004_12_DRAPP_HARN\3080375_1775645.tif;K:\Aerials\2004\2004_12_DRAPP_HARN\3080375_1770645.tif "Database Connections\Connection to COL-GIS-SDE2 (9).sde\BaseData.DBO.DRAPP_2004" LAST FIRST # # NONE 0 NONE</Process>
</lineage>
<itemProps>
<itemName Sync="TRUE">BaseData.DBO.DRAPP_2004</itemName>
<imsContentType Sync="TRUE">002</imsContentType>
<nativeExtBox>
<westBL Sync="TRUE">3080368.449687</westBL>
<eastBL Sync="TRUE">3115366.449687</eastBL>
<southBL Sync="TRUE">1214359.660138</southBL>
<northBL Sync="TRUE">1249357.660138</northBL>
<exTypeCode Sync="TRUE">1</exTypeCode>
</nativeExtBox>
<itemLocation>
<linkage Sync="TRUE">Server=COL-GIS-SDE2; Service=sde:sqlserver:COL-GIS-SDE2; Database=BaseData; Version=dbo.DEFAULT</linkage>
<protocol Sync="TRUE">ArcSDE Connection</protocol>
</itemLocation>
</itemProps>
<coordRef>
<type Sync="TRUE">Projected</type>
<geogcsn Sync="TRUE">GCS_North_American_1983_HARN</geogcsn>
<csUnits Sync="TRUE">Linear Unit: Foot_US (0.304801)</csUnits>
<projcsn Sync="TRUE">NAD_1983_HARN_StatePlane_Colorado_North_FIPS_0501_Feet</projcsn>
<peXml Sync="TRUE">&lt;ProjectedCoordinateSystem xsi:type='typens:ProjectedCoordinateSystem' xmlns:xsi='http://www.w3.org/2001/XMLSchema-instance' xmlns:xs='http://www.w3.org/2001/XMLSchema' xmlns:typens='http://www.esri.com/schemas/ArcGIS/2.2.0'&gt;&lt;WKT&gt;PROJCS[&amp;quot;NAD_1983_HARN_StatePlane_Colorado_North_FIPS_0501_Feet&amp;quot;,GEOGCS[&amp;quot;GCS_North_American_1983_HARN&amp;quot;,DATUM[&amp;quot;D_North_American_1983_HARN&amp;quot;,SPHEROID[&amp;quot;GRS_1980&amp;quot;,6378137.0,298.257222101]],PRIMEM[&amp;quot;Greenwich&amp;quot;,0.0],UNIT[&amp;quot;Degree&amp;quot;,0.0174532925199433]],PROJECTION[&amp;quot;Lambert_Conformal_Conic&amp;quot;],PARAMETER[&amp;quot;False_Easting&amp;quot;,3000000.000316083],PARAMETER[&amp;quot;False_Northing&amp;quot;,999999.999996],PARAMETER[&amp;quot;Central_Meridian&amp;quot;,-105.5],PARAMETER[&amp;quot;Standard_Parallel_1&amp;quot;,39.71666666666667],PARAMETER[&amp;quot;Standard_Parallel_2&amp;quot;,40.78333333333333],PARAMETER[&amp;quot;Latitude_Of_Origin&amp;quot;,39.33333333333334],UNIT[&amp;quot;Foot_US&amp;quot;,0.3048006096012192],AUTHORITY[&amp;quot;EPSG&amp;quot;,2876]]&lt;/WKT&gt;&lt;XOrigin&gt;-118265500&lt;/XOrigin&gt;&lt;YOrigin&gt;-95180100&lt;/YOrigin&gt;&lt;XYScale&gt;37138342.128391795&lt;/XYScale&gt;&lt;ZOrigin&gt;-100000&lt;/ZOrigin&gt;&lt;ZScale&gt;10000&lt;/ZScale&gt;&lt;MOrigin&gt;-100000&lt;/MOrigin&gt;&lt;MScale&gt;10000&lt;/MScale&gt;&lt;XYTolerance&gt;0.0032808333333333331&lt;/XYTolerance&gt;&lt;ZTolerance&gt;0.00020000000000000001&lt;/ZTolerance&gt;&lt;MTolerance&gt;0.00020000000000000001&lt;/MTolerance&gt;&lt;HighPrecision&gt;true&lt;/HighPrecision&gt;&lt;WKID&gt;2876&lt;/WKID&gt;&lt;LatestWKID&gt;2876&lt;/LatestWKID&gt;&lt;/ProjectedCoordinateSystem&gt;</peXml>
</coordRef>
</DataProperties>
<SyncDate>20190306</SyncDate>
<SyncTime>13453200</SyncTime>
<ModDate>20190306</ModDate>
<ModTime>13453200</ModTime>
</Esri>
<dataIdInfo>
<envirDesc Sync="TRUE">Microsoft Windows 10 Version 10.0 (Build 15063) ; Esri ArcGIS 12.2.1.12813</envirDesc>
<dataLang>
<languageCode Sync="TRUE" value="eng"/>
<countryCode Sync="TRUE" value="USA"/>
</dataLang>
<idCitation>
<resTitle Sync="TRUE">Imagery 2004</resTitle>
<presForm>
<PresFormCd Sync="TRUE" value="011"/>
</presForm>
</idCitation>
<spatRpType>
<SpatRepTypCd Sync="TRUE" value="002"/>
</spatRpType>
<dataExt>
<geoEle>
<GeoBndBox esriExtentType="search">
<exTypeCode Sync="TRUE">1</exTypeCode>
<westBL Sync="TRUE">-105.213457</westBL>
<eastBL Sync="TRUE">-105.088098</eastBL>
<northBL Sync="TRUE">40.017516</northBL>
<southBL Sync="TRUE">39.921063</southBL>
</GeoBndBox>
</geoEle>
</dataExt>
<idAbs/>
<searchKeys>
<keyword>Louisville</keyword>
<keyword>Colorado</keyword>
<keyword>Boulder County</keyword>
<keyword>DRAPP</keyword>
<keyword>Imagery</keyword>
<keyword>Aerial</keyword>
</searchKeys>
<idPurp>City of Louisville, Colorado DRCOG DRAPP aerial imagery</idPurp>
<idCredit/>
<resConst>
<Consts>
<useLimit/>
</Consts>
</resConst>
</dataIdInfo>
<mdLang>
<languageCode Sync="TRUE" value="eng"/>
<countryCode Sync="TRUE" value="USA"/>
</mdLang>
<distInfo>
<distFormat>
<formatName Sync="TRUE">Enterprise Geodatabase Raster Dataset</formatName>
</distFormat>
</distInfo>
<mdHrLv>
<ScopeCd Sync="TRUE" value="005"/>
</mdHrLv>
<mdHrLvName Sync="TRUE">dataset</mdHrLvName>
<refSysInfo>
<RefSystem>
<refSysID>
<identCode Sync="TRUE" code="2876"/>
<idCodeSpace Sync="TRUE">EPSG</idCodeSpace>
<idVersion Sync="TRUE">8.9.3(9.0.0)</idVersion>
</refSysID>
</RefSystem>
</refSysInfo>
<spdoinfo>
<rastinfo>
<rasttype Sync="TRUE">Pixel</rasttype>
<rowcount Sync="TRUE">34998</rowcount>
<colcount Sync="TRUE">34998</colcount>
<rastxsz Sync="TRUE">1.000000</rastxsz>
<rastysz Sync="TRUE">1.000000</rastysz>
<rastbpp Sync="TRUE">8</rastbpp>
<vrtcount Sync="TRUE">1</vrtcount>
<rastorig Sync="TRUE">Upper Left</rastorig>
<rastcmap Sync="TRUE">FALSE</rastcmap>
<rastcomp Sync="TRUE">LZ77</rastcomp>
<rastband Sync="TRUE">3</rastband>
<rastdtyp Sync="TRUE">pixel codes</rastdtyp>
<rastifor Sync="TRUE">SDR</rastifor>
<rastplyr Sync="TRUE">TRUE</rastplyr>
</rastinfo>
</spdoinfo>
<spref>
<horizsys>
<planar>
<planci>
<plance Sync="TRUE">row and column</plance>
<coordrep>
<absres Sync="TRUE">1.000000</absres>
<ordres Sync="TRUE">1.000000</ordres>
</coordrep>
</planci>
</planar>
</horizsys>
</spref>
<mdDateSt Sync="TRUE">20190306</mdDateSt>
</metadata>
