<?xml version="1.0" encoding="UTF-8" standalone="no"?>
<metadata xml:lang="en">
<Esri>
<CreaDate>20190301</CreaDate>
<CreaTime>12201300</CreaTime>
<ArcGISFormat>1.0</ArcGISFormat>
<SyncOnce>FALSE</SyncOnce>
<DataProperties>
<lineage>
<Process Date="20190301" Time="122013" ToolSource="c:\program files\arcgis\pro\Resources\ArcToolbox\toolboxes\Data Management Tools.tbx\CreateRasterDataset">CreateRasterDataset "C:\Users\mstiller\Documents\ArcGIS\Projects\DataMigration\BaseDataSDE2 (2).sde" DRAPP_2014 # "8 bit unsigned" PROJCS['NAD_1983_HARN_StatePlane_Colorado_North_FIPS_0501_Feet',GEOGCS['GCS_North_American_1983_HARN',DATUM['D_North_American_1983_HARN',SPHEROID['GRS_1980',6378137.0,298.257222101]],PRIMEM['Greenwich',0.0],UNIT['Degree',0.0174532925199433]],PROJECTION['Lambert_Conformal_Conic'],PARAMETER['False_Easting',3000000.000316083],PARAMETER['False_Northing',999999.999996],PARAMETER['Central_Meridian',-105.5],PARAMETER['Standard_Parallel_1',39.71666666666667],PARAMETER['Standard_Parallel_2',40.78333333333333],PARAMETER['Latitude_Of_Origin',39.33333333333334],UNIT['Foot_US',0.3048006096012192]] 4 # "PYRAMIDS -1 NEAREST DEFAULT 75 NO_SKIP" "128 128" LZ77 "-118265153.55037 79822152.6602041"</Process>
<Process Date="20190301" Time="162049" ToolSource="c:\program files\arcgis\pro\Resources\ArcToolbox\toolboxes\Data Management Tools.tbx\Mosaic">Mosaic 'K:\Aerials\Kucera-DRAPP Spring 2014\N2W121.tif';'K:\Aerials\Kucera-DRAPP Spring 2014\N2W122.tif';'K:\Aerials\Kucera-DRAPP Spring 2014\N2W123.tif';'K:\Aerials\Kucera-DRAPP Spring 2014\N2W124.tif';'K:\Aerials\Kucera-DRAPP Spring 2014\N2W130.tif';'K:\Aerials\Kucera-DRAPP Spring 2014\N2W131.tif';'K:\Aerials\Kucera-DRAPP Spring 2014\N2W132.tif';'K:\Aerials\Kucera-DRAPP Spring 2014\N2W133.tif';'K:\Aerials\Kucera-DRAPP Spring 2014\N2W134.tif';'K:\Aerials\Kucera-DRAPP Spring 2014\N2W140.tif';'K:\Aerials\Kucera-DRAPP Spring 2014\N2W141.tif';'K:\Aerials\Kucera-DRAPP Spring 2014\N2W142.tif';'K:\Aerials\Kucera-DRAPP Spring 2014\N2W143.tif';'K:\Aerials\Kucera-DRAPP Spring 2014\N2W144.tif';'K:\Aerials\Kucera-DRAPP Spring 2014\N2W150.tif';'K:\Aerials\Kucera-DRAPP Spring 2014\N2W151.tif';'K:\Aerials\Kucera-DRAPP Spring 2014\N2W152.tif';'K:\Aerials\Kucera-DRAPP Spring 2014\N2W153.tif';'K:\Aerials\Kucera-DRAPP Spring 2014\N2W154.tif';'K:\Aerials\Kucera-DRAPP Spring 2014\N2W161.tif';'K:\Aerials\Kucera-DRAPP Spring 2014\N2W162.tif';'K:\Aerials\Kucera-DRAPP Spring 2014\N2W163.tif';'K:\Aerials\Kucera-DRAPP Spring 2014\N2W249.tif';'K:\Aerials\Kucera-DRAPP Spring 2014\N2W120.tif' "C:\Users\mstiller\Documents\ArcGIS\Projects\DataMigration\BaseDataSDE2 (2).sde\BaseData.DBO.DRAPP_2014" Last First # # NONE 0 None</Process>
<Process Date="20231229" Time="094940" ToolSource="c:\users\jreilly\appdata\local\programs\arcgis\pro\Resources\ArcToolbox\toolboxes\Data Management Tools.tbx\ProjectRaster">ProjectRaster BaseData.DBO.DRAPP_2014 G:\IT\GIS\MapPackages\DRAPPTEST PROJCS["WGS_1984_Web_Mercator_Auxiliary_Sphere",GEOGCS["GCS_WGS_1984",DATUM["D_WGS_1984",SPHEROID["WGS_1984",6378137.0,298.257223563]],PRIMEM["Greenwich",0.0],UNIT["Degree",0.0174532925199433]],PROJECTION["Mercator_Auxiliary_Sphere"],PARAMETER["False_Easting",0.0],PARAMETER["False_Northing",0.0],PARAMETER["Central_Meridian",0.0],PARAMETER["Standard_Parallel_1",0.0],PARAMETER["Auxiliary_Sphere_Type",0.0],UNIT["Meter",1.0]] "Nearest neighbor" "0.15240030480061 0.15240030480061" NAD_1983_HARN_To_WGS_1984_2 # PROJCS["NAD_1983_HARN_StatePlane_Colorado_North_FIPS_0501_Feet",GEOGCS["GCS_North_American_1983_HARN",DATUM["D_North_American_1983_HARN",SPHEROID["GRS_1980",6378137.0,298.257222101]],PRIMEM["Greenwich",0.0],UNIT["Degree",0.0174532925199433]],PROJECTION["Lambert_Conformal_Conic"],PARAMETER["False_Easting",3000000.000316083],PARAMETER["False_Northing",999999.999996],PARAMETER["Central_Meridian",-105.5],PARAMETER["Standard_Parallel_1",39.71666666666667],PARAMETER["Standard_Parallel_2",40.78333333333333],PARAMETER["Latitude_Of_Origin",39.33333333333334],UNIT["Foot_US",0.3048006096012192]] NO_VERTICAL</Process>
<Process Date="20240103" Time="121149" ToolSource="c:\program files\arcgis\pro\Resources\ArcToolbox\toolboxes\Data Management Tools.tbx\CopyRaster">CopyRaster G:\IT\GIS\MapPackages\drapptest C:\Users\jreillyadmin\AppData\Roaming\Esri\ArcGISPro\Favorites\COL-GIS-SDE2.sde\BaseData.DBO.DRAPP_2014_test # # 255 NONE NONE # NONE NONE "Esri Grid" NONE CURRENT_SLICE NO_TRANSPOSE</Process>
<Process Date="20240105" Time="114612" ToolSource="c:\users\jreilly\appdata\local\programs\arcgis\pro\Resources\ArcToolbox\Toolboxes\Data Management Tools.tbx\Rename">Rename C:\Users\jreilly\AppData\Roaming\Esri\ArcGISPro\Favorites\BaseData.sde\BaseData.DBO.DRAPP_2014_test C:\Users\jreilly\AppData\Roaming\Esri\ArcGISPro\Favorites\BaseData.sde\BaseData.DBO.DRAPP_2014_WGS1984 RasterDataset</Process>
</lineage>
<itemProps>
<itemName Sync="TRUE">BaseData.DBO.DRAPP_2014_test</itemName>
<imsContentType Sync="TRUE">002</imsContentType>
<nativeExtBox>
<westBL Sync="TRUE">-11711141.224996</westBL>
<eastBL Sync="TRUE">-11698518.212550</eastBL>
<southBL Sync="TRUE">4855685.958279</southBL>
<northBL Sync="TRUE">4866262.234632</northBL>
<exTypeCode Sync="TRUE">1</exTypeCode>
</nativeExtBox>
<itemLocation>
<linkage Sync="TRUE">Server=COL-GIS-SDE2; Service=sde:sqlserver:COL-GIS-SDE2; Database=BaseData; User=sa2; Version=dbo.DEFAULT</linkage>
<protocol Sync="TRUE">ArcSDE Connection</protocol>
</itemLocation>
</itemProps>
<coordRef>
<type Sync="TRUE">Projected</type>
<geogcsn Sync="TRUE">GCS_WGS_1984</geogcsn>
<csUnits Sync="TRUE">Linear Unit: Meter (1.000000)</csUnits>
<projcsn Sync="TRUE">WGS_1984_Web_Mercator_Auxiliary_Sphere</projcsn>
<peXml Sync="TRUE">&lt;ProjectedCoordinateSystem xsi:type='typens:ProjectedCoordinateSystem' xmlns:xsi='http://www.w3.org/2001/XMLSchema-instance' xmlns:xs='http://www.w3.org/2001/XMLSchema' xmlns:typens='http://www.esri.com/schemas/ArcGIS/2.5.0'&gt;&lt;WKT&gt;PROJCS[&amp;quot;WGS_1984_Web_Mercator_Auxiliary_Sphere&amp;quot;,GEOGCS[&amp;quot;GCS_WGS_1984&amp;quot;,DATUM[&amp;quot;D_WGS_1984&amp;quot;,SPHEROID[&amp;quot;WGS_1984&amp;quot;,6378137.0,298.257223563]],PRIMEM[&amp;quot;Greenwich&amp;quot;,0.0],UNIT[&amp;quot;Degree&amp;quot;,0.0174532925199433]],PROJECTION[&amp;quot;Mercator_Auxiliary_Sphere&amp;quot;],PARAMETER[&amp;quot;False_Easting&amp;quot;,0.0],PARAMETER[&amp;quot;False_Northing&amp;quot;,0.0],PARAMETER[&amp;quot;Central_Meridian&amp;quot;,0.0],PARAMETER[&amp;quot;Standard_Parallel_1&amp;quot;,0.0],PARAMETER[&amp;quot;Auxiliary_Sphere_Type&amp;quot;,0.0],UNIT[&amp;quot;Meter&amp;quot;,1.0],AUTHORITY[&amp;quot;EPSG&amp;quot;,3857]]&lt;/WKT&gt;&lt;XOrigin&gt;-20037700&lt;/XOrigin&gt;&lt;YOrigin&gt;-30241100&lt;/YOrigin&gt;&lt;XYScale&gt;148923141.92838538&lt;/XYScale&gt;&lt;ZOrigin&gt;-100000&lt;/ZOrigin&gt;&lt;ZScale&gt;10000&lt;/ZScale&gt;&lt;MOrigin&gt;-100000&lt;/MOrigin&gt;&lt;MScale&gt;10000&lt;/MScale&gt;&lt;XYTolerance&gt;0.001&lt;/XYTolerance&gt;&lt;ZTolerance&gt;0.00020000000000000001&lt;/ZTolerance&gt;&lt;MTolerance&gt;0.00020000000000000001&lt;/MTolerance&gt;&lt;HighPrecision&gt;true&lt;/HighPrecision&gt;&lt;WKID&gt;102100&lt;/WKID&gt;&lt;LatestWKID&gt;3857&lt;/LatestWKID&gt;&lt;/ProjectedCoordinateSystem&gt;</peXml>
</coordRef>
<RasterProperties>
<General>
<PixelDepth Sync="TRUE">8</PixelDepth>
<HasColormap Sync="TRUE">FALSE</HasColormap>
<CompressionType Sync="TRUE">None</CompressionType>
<NumBands Sync="TRUE">4</NumBands>
<Format Sync="TRUE">GRID Stack 7.x</Format>
<HasPyramids Sync="TRUE">TRUE</HasPyramids>
<SourceType Sync="TRUE">continuous</SourceType>
<PixelType Sync="TRUE">unsigned integer</PixelType>
<NoDataValue Sync="TRUE">255</NoDataValue>
</General>
</RasterProperties>
</DataProperties>
<SyncDate>20240103</SyncDate>
<SyncTime>11544300</SyncTime>
<ModDate>20240103</ModDate>
<ModTime>11544300</ModTime>
</Esri>
<dataIdInfo>
<envirDesc Sync="TRUE">Microsoft Windows Server 2016 Technical Preview Version 10.0 (Build 17763) ; Esri ArcGIS 12.5.0.22081</envirDesc>
<dataLang>
<languageCode Sync="TRUE" value="eng"/>
<countryCode Sync="TRUE" value="USA"/>
</dataLang>
<idCitation>
<resTitle Sync="TRUE">DRAPP_2014</resTitle>
<presForm>
<PresFormCd Sync="TRUE" value="011"/>
</presForm>
</idCitation>
<spatRpType>
<SpatRepTypCd Sync="TRUE" value="002"/>
</spatRpType>
<dataExt>
<geoEle>
<GeoBndBox esriExtentType="search">
<exTypeCode Sync="TRUE">1</exTypeCode>
<westBL Sync="TRUE">-105.202972</westBL>
<eastBL Sync="TRUE">-105.089577</eastBL>
<northBL Sync="TRUE">40.002202</northBL>
<southBL Sync="TRUE">39.929385</southBL>
</GeoBndBox>
</geoEle>
</dataExt>
<idAbs>In collaboration with the DRAPP consortium with Denver Regional Council of Government, the current imagery layer is the product of a 2016 flyover. For questions regarding this layer, please contact City of Louisville</idAbs>
<searchKeys>
<keyword>DRCOG</keyword>
<keyword>DRAPP</keyword>
<keyword>Imagery</keyword>
</searchKeys>
<idPurp>DRAPP Imagery for the City of Louisville in Collaboration with the Denver Regional Council of Government (DRCOG)</idPurp>
<idCredit>Matt Stiller 03/15/19</idCredit>
<resConst>
<Consts>
<useLimit/>
</Consts>
</resConst>
</dataIdInfo>
<mdLang>
<languageCode Sync="TRUE" value="eng"/>
<countryCode Sync="TRUE" value="USA"/>
</mdLang>
<distInfo>
<distFormat>
<formatName Sync="TRUE">Enterprise Geodatabase Raster Dataset</formatName>
</distFormat>
</distInfo>
<mdHrLv>
<ScopeCd Sync="TRUE" value="005"/>
</mdHrLv>
<mdHrLvName Sync="TRUE">dataset</mdHrLvName>
<refSysInfo>
<RefSystem>
<refSysID>
<identCode Sync="TRUE" code="3857"/>
<idCodeSpace Sync="TRUE">EPSG</idCodeSpace>
<idVersion Sync="TRUE">8.8(9.3.1.2)</idVersion>
</refSysID>
</RefSystem>
</refSysInfo>
<spdoinfo>
<rastinfo>
<rasttype Sync="TRUE">Pixel</rasttype>
<rowcount Sync="TRUE">69398</rowcount>
<colcount Sync="TRUE">82828</colcount>
<rastxsz Sync="TRUE">0.152400</rastxsz>
<rastysz Sync="TRUE">0.152400</rastysz>
<rastbpp Sync="TRUE">8</rastbpp>
<vrtcount Sync="TRUE">1</vrtcount>
<rastorig Sync="TRUE">Upper Left</rastorig>
<rastcmap Sync="TRUE">FALSE</rastcmap>
<rastcomp Sync="TRUE">LZ77</rastcomp>
<rastband Sync="TRUE">4</rastband>
<rastdtyp Sync="TRUE">pixel codes</rastdtyp>
<rastifor Sync="TRUE">SDR</rastifor>
<rastplyr Sync="TRUE">TRUE</rastplyr>
</rastinfo>
</spdoinfo>
<spref>
<horizsys>
<planar>
<planci>
<plance Sync="TRUE">row and column</plance>
<coordrep>
<absres Sync="TRUE">0.152400</absres>
<ordres Sync="TRUE">0.152400</ordres>
</coordrep>
</planci>
</planar>
</horizsys>
</spref>
<mdDateSt Sync="TRUE">20240103</mdDateSt>
<spatRepInfo>
<Georect>
<cellGeo>
<CellGeoCd Sync="TRUE" value="002"/>
</cellGeo>
<numDims Sync="TRUE">2</numDims>
<tranParaAv Sync="TRUE">1</tranParaAv>
<chkPtAv Sync="TRUE">0</chkPtAv>
<cornerPts>
<pos Sync="TRUE">-11711141.224996 4855685.958279</pos>
</cornerPts>
<cornerPts>
<pos Sync="TRUE">-11711141.224996 4866262.234632</pos>
</cornerPts>
<cornerPts>
<pos Sync="TRUE">-11698518.212550 4866262.234632</pos>
</cornerPts>
<cornerPts>
<pos Sync="TRUE">-11698518.212550 4855685.958279</pos>
</cornerPts>
<centerPt>
<pos Sync="TRUE">-11704829.718773 4860974.096455</pos>
</centerPt>
<axisDimension type="002">
<dimSize Sync="TRUE">82828</dimSize>
<dimResol>
<value Sync="TRUE" uom="m">0.152400</value>
</dimResol>
</axisDimension>
<axisDimension type="001">
<dimSize Sync="TRUE">69398</dimSize>
<dimResol>
<value Sync="TRUE" uom="m">0.152400</value>
</dimResol>
</axisDimension>
<ptInPixel>
<PixOrientCd Sync="TRUE" value="001"/>
</ptInPixel>
</Georect>
</spatRepInfo>
<contInfo>
<ImgDesc>
<contentTyp>
<ContentTypCd Sync="TRUE" value="003"/>
</contentTyp>
<covDim>
<Band>
<dimDescrp Sync="TRUE">drapptestc1</dimDescrp>
<maxVal Sync="TRUE">254.000000</maxVal>
<minVal Sync="TRUE">0.000000</minVal>
<bitsPerVal Sync="TRUE">8</bitsPerVal>
<valUnit>
<UOM type="length"/>
</valUnit>
</Band>
<Band>
<dimDescrp Sync="TRUE">drapptestc2</dimDescrp>
<maxVal Sync="TRUE">254.000000</maxVal>
<minVal Sync="TRUE">0.000000</minVal>
<bitsPerVal Sync="TRUE">8</bitsPerVal>
<valUnit>
<UOM type="length"/>
</valUnit>
</Band>
<Band>
<dimDescrp Sync="TRUE">drapptestc3</dimDescrp>
<maxVal Sync="TRUE">254.000000</maxVal>
<minVal Sync="TRUE">0.000000</minVal>
<bitsPerVal Sync="TRUE">8</bitsPerVal>
<valUnit>
<UOM type="length"/>
</valUnit>
</Band>
<Band>
<dimDescrp Sync="TRUE">drapptestc4</dimDescrp>
<maxVal Sync="TRUE">254.000000</maxVal>
<minVal Sync="TRUE">0.000000</minVal>
<bitsPerVal Sync="TRUE">8</bitsPerVal>
<valUnit>
<UOM type="length"/>
</valUnit>
</Band>
</covDim>
</ImgDesc>
</contInfo>
</metadata>
